BEGIN:VCALENDAR
VERSION:2.0
PRODID:-//Plone.org//NONSGML plone.app.event//EN
X-WR-TIMEZONE:Europe/Madrid
BEGIN:VEVENT
SUMMARY:I Festival de Canción Popular 'Pepe Suero'
DTSTART;TZID=Europe/Madrid;VALUE=DATE-TIME:20220528T203000
DTEND;TZID=Europe/Madrid;VALUE=DATE-TIME:20220528T213000
DTSTAMP;VALUE=DATE-TIME:20260426T040500Z
UID:c499b473a32840ec8f565dae9439fc0c@icas.sevilla.org
CATEGORIES:Música
CREATED;VALUE=DATE-TIME:20220525T151047Z
LAST-MODIFIED;VALUE=DATE-TIME:20231006T080029Z
LOCATION:Plaza Poeta Miguel Hernández
URL:https://icas.sevilla.org/agenda/i-festival-de-cancion-popular-pepe-sue
 ro
END:VEVENT
BEGIN:VTIMEZONE
TZID:Europe/Madrid
X-LIC-LOCATION:Europe/Madrid
BEGIN:DAYLIGHT
DTSTART;VALUE=DATE-TIME:20220327T030000
TZNAME:CEST
TZOFFSETFROM:+0100
TZOFFSETTO:+0200
END:DAYLIGHT
END:VTIMEZONE
END:VCALENDAR
