BEGIN:VCALENDAR
VERSION:2.0
PRODID:-//Plone.org//NONSGML plone.app.event//EN
X-WR-TIMEZONE:Europe/Madrid
BEGIN:VEVENT
SUMMARY:Ilustra y te Cuento
DTSTART;VALUE=DATE:20210423
DTEND;VALUE=DATE:20210424
DTSTAMP;VALUE=DATE-TIME:20260421T211739Z
UID:b517f9ab7a824a09adf7c2461e60aac2@icas.sevilla.org
CATEGORIES:Bibliotecas,infantil
CREATED;VALUE=DATE-TIME:20210415T115459Z
LAST-MODIFIED;VALUE=DATE-TIME:20231006T073314Z
LOCATION:Biblioteca Torreblanca
URL:https://icas.sevilla.org/agenda/ilustra-y-te-cuento
END:VEVENT
END:VCALENDAR
