BEGIN:VCALENDAR
VERSION:2.0
PRODID:-//Plone.org//NONSGML plone.app.event//EN
X-WR-TIMEZONE:Europe/Madrid
BEGIN:VEVENT
SUMMARY:Manuel Imán: La Torre Encantada
DTSTART;TZID=Europe/Madrid;VALUE=DATE-TIME:20200916T220000
DTEND;TZID=Europe/Madrid;VALUE=DATE-TIME:20200916T230000
DTSTAMP;VALUE=DATE-TIME:20260419T160100Z
UID:a0411c269f414272aabc74f4e13cbe52@icas.sevilla.org
CATEGORIES:Música
CREATED;VALUE=DATE-TIME:20200910T093113Z
LAST-MODIFIED;VALUE=DATE-TIME:20231006T072413Z
LOCATION:Espacio Santa Clara
URL:https://icas.sevilla.org/agenda/iman-torre
END:VEVENT
BEGIN:VTIMEZONE
TZID:Europe/Madrid
X-LIC-LOCATION:Europe/Madrid
BEGIN:DAYLIGHT
DTSTART;VALUE=DATE-TIME:20200329T030000
TZNAME:CEST
TZOFFSETFROM:+0100
TZOFFSETTO:+0200
END:DAYLIGHT
END:VTIMEZONE
END:VCALENDAR
