BEGIN:VCALENDAR
VERSION:2.0
PRODID:-//Plone.org//NONSGML plone.app.event//EN
X-WR-TIMEZONE:Europe/Madrid
BEGIN:VEVENT
SUMMARY:'Oración'/José Carlos Cabrera
DTSTART;TZID=Europe/Madrid;VALUE=DATE-TIME:20211015T190000
DTEND;TZID=Europe/Madrid;VALUE=DATE-TIME:20211015T200000
DTSTAMP;VALUE=DATE-TIME:20260422T132509Z
UID:fb53087957c1459d8fec05e9433f9da5@icas.sevilla.org
CATEGORIES:Guitarra
CREATED;VALUE=DATE-TIME:20210804T115125Z
DESCRIPTION:XII Festival de la Guitarra de Sevilla
LAST-MODIFIED;VALUE=DATE-TIME:20231006T074932Z
LOCATION:Espacio Turina
URL:https://icas.sevilla.org/agenda/jose-carlos-cabrera
END:VEVENT
BEGIN:VTIMEZONE
TZID:Europe/Madrid
X-LIC-LOCATION:Europe/Madrid
BEGIN:DAYLIGHT
DTSTART;VALUE=DATE-TIME:20210328T030000
TZNAME:CEST
TZOFFSETFROM:+0100
TZOFFSETTO:+0200
END:DAYLIGHT
END:VTIMEZONE
END:VCALENDAR
