BEGIN:VCALENDAR
VERSION:2.0
PRODID:-//Plone.org//NONSGML plone.app.event//EN
X-WR-TIMEZONE:Europe/Madrid
BEGIN:VEVENT
SUMMARY:La Caja de Música: Música en la Nueva Normalidad
DTSTART;TZID=Europe/Madrid;VALUE=DATE-TIME:20211007T180000
DTEND;TZID=Europe/Madrid;VALUE=DATE-TIME:20211007T190000
DTSTAMP;VALUE=DATE-TIME:20260423T042029Z
UID:aac3f07120484b0c9a5669fe2ac7905d@icas.sevilla.org
CATEGORIES:Infantil,Literatura
CREATED;VALUE=DATE-TIME:20210921T112958Z
LAST-MODIFIED;VALUE=DATE-TIME:20231006T075239Z
LOCATION:Biblioteca Torreblanca
URL:https://icas.sevilla.org/agenda/la-caja-de-musica-musica-en-la-nueva-n
 ormalidad
END:VEVENT
BEGIN:VTIMEZONE
TZID:Europe/Madrid
X-LIC-LOCATION:Europe/Madrid
BEGIN:DAYLIGHT
DTSTART;VALUE=DATE-TIME:20210328T030000
TZNAME:CEST
TZOFFSETFROM:+0100
TZOFFSETTO:+0200
END:DAYLIGHT
END:VTIMEZONE
END:VCALENDAR
