BEGIN:VCALENDAR
VERSION:2.0
PRODID:-//Plone.org//NONSGML plone.app.event//EN
X-WR-TIMEZONE:Europe/Madrid
BEGIN:VEVENT
SUMMARY:La Carroza del Real
DTSTART;TZID=Europe/Madrid;VALUE=DATE-TIME:20230305T173000
DTEND;TZID=Europe/Madrid;VALUE=DATE-TIME:20230305T183000
DTSTAMP;VALUE=DATE-TIME:20260419T200452Z
UID:bdb85de4881946ff91ead4c358776f11@icas.sevilla.org
CREATED;VALUE=DATE-TIME:20230222T130837Z
LAST-MODIFIED;VALUE=DATE-TIME:20231006T080402Z
LOCATION:Calle Cueva de la Pileta (en el aparcamiento Centro Deportivo Sup
 era Entrepuentes de Sevilla Este
URL:https://icas.sevilla.org/agenda/la-carroza-del-real-1
END:VEVENT
BEGIN:VTIMEZONE
TZID:Europe/Madrid
X-LIC-LOCATION:Europe/Madrid
BEGIN:STANDARD
DTSTART;VALUE=DATE-TIME:20221030T020000
TZNAME:CET
TZOFFSETFROM:+0200
TZOFFSETTO:+0100
END:STANDARD
END:VTIMEZONE
END:VCALENDAR
