BEGIN:VCALENDAR
VERSION:2.0
PRODID:-//Plone.org//NONSGML plone.app.event//EN
X-WR-TIMEZONE:Europe/Madrid
BEGIN:VEVENT
SUMMARY:La hora del cuento: cuando cuento\, canto
DTSTART;TZID=Europe/Madrid;VALUE=DATE-TIME:20210618T163000
DTEND;TZID=Europe/Madrid;VALUE=DATE-TIME:20210618T173000
DTSTAMP;VALUE=DATE-TIME:20260423T020404Z
UID:408fa9eb604e4bb7911a116d64aba829@icas.sevilla.org
CATEGORIES:Bibliotecas,infantil,libros y publicaciones
CREATED;VALUE=DATE-TIME:20210426T110119Z
LAST-MODIFIED;VALUE=DATE-TIME:20231006T073543Z
LOCATION:Biblioteca San Jerónimo
URL:https://icas.sevilla.org/agenda/la-hora-del-cuento-cuando-cuento-canto
END:VEVENT
BEGIN:VTIMEZONE
TZID:Europe/Madrid
X-LIC-LOCATION:Europe/Madrid
BEGIN:DAYLIGHT
DTSTART;VALUE=DATE-TIME:20210328T030000
TZNAME:CEST
TZOFFSETFROM:+0100
TZOFFSETTO:+0200
END:DAYLIGHT
END:VTIMEZONE
END:VCALENDAR
