BEGIN:VCALENDAR
VERSION:2.0
PRODID:-//Plone.org//NONSGML plone.app.event//EN
X-WR-TIMEZONE:Europe/Madrid
BEGIN:VEVENT
SUMMARY:La hora del cuento: las palabras cuentan
DTSTART;VALUE=DATE:20210924
DTEND;VALUE=DATE:20210925
DTSTAMP;VALUE=DATE-TIME:20260426T024306Z
UID:3cba03b4e638431c99cdb719ab671fe3@icas.sevilla.org
CATEGORIES:Bibliotecas
CREATED;VALUE=DATE-TIME:20210628T094947Z
LAST-MODIFIED;VALUE=DATE-TIME:20231006T074708Z
LOCATION:Biblioteca San Jerónimo
URL:https://icas.sevilla.org/agenda/la-hora-del-cuento-las-palabras-cuenta
 n
END:VEVENT
END:VCALENDAR
