BEGIN:VCALENDAR
VERSION:2.0
PRODID:-//Plone.org//NONSGML plone.app.event//EN
X-WR-TIMEZONE:Europe/Madrid
BEGIN:VEVENT
SUMMARY:La hora del cuento. Malabareando la palabra
DTSTART;TZID=Europe/Madrid;VALUE=DATE-TIME:20220429T163000
DTEND;TZID=Europe/Madrid;VALUE=DATE-TIME:20220429T173000
DTSTAMP;VALUE=DATE-TIME:20260420T041206Z
UID:b9420affd08847de8d382bc29a34e5eb@icas.sevilla.org
CATEGORIES:Cuentacuentos
CREATED;VALUE=DATE-TIME:20220411T165043Z
LAST-MODIFIED;VALUE=DATE-TIME:20231006T075943Z
LOCATION:Biblioteca San Jerónimo
URL:https://icas.sevilla.org/agenda/la-hora-del-cuento
END:VEVENT
BEGIN:VTIMEZONE
TZID:Europe/Madrid
X-LIC-LOCATION:Europe/Madrid
BEGIN:DAYLIGHT
DTSTART;VALUE=DATE-TIME:20220327T030000
TZNAME:CEST
TZOFFSETFROM:+0100
TZOFFSETTO:+0200
END:DAYLIGHT
END:VTIMEZONE
END:VCALENDAR
