BEGIN:VCALENDAR
VERSION:2.0
PRODID:-//Plone.org//NONSGML plone.app.event//EN
X-WR-TIMEZONE:Europe/Madrid
BEGIN:VEVENT
SUMMARY:'La mujer sin nombre: señora de Macbeth'
DTSTART;TZID=Europe/Madrid;VALUE=DATE-TIME:20231112T190000
DTEND;TZID=Europe/Madrid;VALUE=DATE-TIME:20231112T210000
DTSTAMP;VALUE=DATE-TIME:20260423T112120Z
UID:214b82cf08d346cdb0e5fbc0bd9be960@icas.sevilla.org
CATEGORIES:Teatro
CREATED;VALUE=DATE-TIME:20231024T122941Z
LAST-MODIFIED;VALUE=DATE-TIME:20231103T112530Z
LOCATION:Sala Cité. Cartuja Center
URL:https://icas.sevilla.org/agenda/la-mujer-sin-nombre-senora-de-macbeth
END:VEVENT
BEGIN:VTIMEZONE
TZID:Europe/Madrid
X-LIC-LOCATION:Europe/Madrid
BEGIN:STANDARD
DTSTART;VALUE=DATE-TIME:20231029T020000
TZNAME:CET
TZOFFSETFROM:+0200
TZOFFSETTO:+0100
END:STANDARD
END:VTIMEZONE
END:VCALENDAR
