BEGIN:VCALENDAR
VERSION:2.0
PRODID:-//Plone.org//NONSGML plone.app.event//EN
X-WR-TIMEZONE:Europe/Madrid
BEGIN:VEVENT
SUMMARY:La Piñona - Abril
DTSTART;TZID=Europe/Madrid;VALUE=DATE-TIME:20200920T210000
DTEND;TZID=Europe/Madrid;VALUE=DATE-TIME:20200920T220000
DTSTAMP;VALUE=DATE-TIME:20260423T171922Z
UID:374dd1242f944758b0e770a14ce36615@icas.sevilla.org
CATEGORIES:Flamenco,Danza,Música
CREATED;VALUE=DATE-TIME:20200806T112957Z
LAST-MODIFIED;VALUE=DATE-TIME:20231006T072401Z
LOCATION:Teatro Central
URL:https://icas.sevilla.org/agenda/la-pinona-abril
END:VEVENT
BEGIN:VTIMEZONE
TZID:Europe/Madrid
X-LIC-LOCATION:Europe/Madrid
BEGIN:DAYLIGHT
DTSTART;VALUE=DATE-TIME:20200329T030000
TZNAME:CEST
TZOFFSETFROM:+0100
TZOFFSETTO:+0200
END:DAYLIGHT
END:VTIMEZONE
END:VCALENDAR
