BEGIN:VCALENDAR
VERSION:2.0
PRODID:-//Plone.org//NONSGML plone.app.event//EN
X-WR-TIMEZONE:Europe/Madrid
BEGIN:VEVENT
SUMMARY:La poesía como itinerario y deriva: Las señales que hacemos en l
 os mapas\, de Laura Casielles (Laboratorio de lectura de textos poéticos:
  ciclo de conferencias sobre poesía española contemporánea)
DTSTART;TZID=Europe/Madrid;VALUE=DATE-TIME:20211110T183000
DTEND;TZID=Europe/Madrid;VALUE=DATE-TIME:20211110T193000
DTSTAMP;VALUE=DATE-TIME:20260420T130249Z
UID:e470425e0d5a4da2b91a6ddc0d7c3c78@icas.sevilla.org
CATEGORIES:Bibliotecas,Libros y publicaciones,Literatura
CREATED;VALUE=DATE-TIME:20211019T140030Z
LAST-MODIFIED;VALUE=DATE-TIME:20231006T075308Z
LOCATION:Biblioteca Alberto Lista
URL:https://icas.sevilla.org/agenda/la-poesia-como-itinerario-y-deriva-las
 -senales-que-hacemos-en-los-mapas-de-laura-casielles-laboratorio-de-lectur
 a-de-textos-poeticos-ciclo-de-conferencias-sobre-poesia-espanola-contempor
 anea
END:VEVENT
BEGIN:VTIMEZONE
TZID:Europe/Madrid
X-LIC-LOCATION:Europe/Madrid
BEGIN:STANDARD
DTSTART;VALUE=DATE-TIME:20211031T020000
TZNAME:CET
TZOFFSETFROM:+0200
TZOFFSETTO:+0100
END:STANDARD
END:VTIMEZONE
END:VCALENDAR
