BEGIN:VCALENDAR
VERSION:2.0
PRODID:-//Plone.org//NONSGML plone.app.event//EN
X-WR-TIMEZONE:Europe/Madrid
BEGIN:VEVENT
SUMMARY:Laberintos y seres mitológicos
DTSTART;TZID=Europe/Madrid;VALUE=DATE-TIME:20210428T110000
DTEND;TZID=Europe/Madrid;VALUE=DATE-TIME:20210428T120000
DTSTAMP;VALUE=DATE-TIME:20260420T032231Z
UID:1139bbc4ee5542cbb7265bc39299c266@icas.sevilla.org
CATEGORIES:Bibliotecas,Literatura,Infantil
CREATED;VALUE=DATE-TIME:20210415T114445Z
LAST-MODIFIED;VALUE=DATE-TIME:20231006T073312Z
LOCATION:Biblioteca Los Carteros
URL:https://icas.sevilla.org/agenda/laberintos-y-seres-mitologicos
END:VEVENT
BEGIN:VTIMEZONE
TZID:Europe/Madrid
X-LIC-LOCATION:Europe/Madrid
BEGIN:DAYLIGHT
DTSTART;VALUE=DATE-TIME:20210328T030000
TZNAME:CEST
TZOFFSETFROM:+0100
TZOFFSETTO:+0200
END:DAYLIGHT
END:VTIMEZONE
END:VCALENDAR
