BEGIN:VCALENDAR
VERSION:2.0
PRODID:-//Plone.org//NONSGML plone.app.event//EN
X-WR-TIMEZONE:Europe/Madrid
BEGIN:VEVENT
SUMMARY:Leer\, escribir y disfrutar haikus: 2. Las normas del haiku (ciclo
  de conferencias sobre esta famosa estrofa de origen japonés)
DTSTART;TZID=Europe/Madrid;VALUE=DATE-TIME:20210920T183000
DTEND;TZID=Europe/Madrid;VALUE=DATE-TIME:20210920T193000
DTSTAMP;VALUE=DATE-TIME:20260425T151917Z
UID:2947900fd8f84951938dbf23de060fd1@icas.sevilla.org
CATEGORIES:Literatura
CREATED;VALUE=DATE-TIME:20210920T140441Z
LAST-MODIFIED;VALUE=DATE-TIME:20231006T075108Z
LOCATION:Biblioteca Alberto Lista
URL:https://icas.sevilla.org/agenda/leer-escribir-y-disfrutar-haikus-2-las
 -normas-del-haiku-ciclo-de-conferencias-sobre-esta-famosa-estrofa-de-orige
 n-japones
END:VEVENT
BEGIN:VTIMEZONE
TZID:Europe/Madrid
X-LIC-LOCATION:Europe/Madrid
BEGIN:DAYLIGHT
DTSTART;VALUE=DATE-TIME:20210328T030000
TZNAME:CEST
TZOFFSETFROM:+0100
TZOFFSETTO:+0200
END:DAYLIGHT
END:VTIMEZONE
END:VCALENDAR
