BEGIN:VCALENDAR
VERSION:2.0
PRODID:-//Plone.org//NONSGML plone.app.event//EN
X-WR-TIMEZONE:Europe/Madrid
BEGIN:VEVENT
SUMMARY:Leer\, escribir y disfrutar haikus: 3. El haiku hoy en día (ciclo
  de conferencias sobre esta famosa estrofa de origen japonés)
DTSTART;TZID=Europe/Madrid;VALUE=DATE-TIME:20211029T183000
DTEND;TZID=Europe/Madrid;VALUE=DATE-TIME:20211029T193000
DTSTAMP;VALUE=DATE-TIME:20260422T200327Z
UID:19dcd9f875434b2089e478d2aa6583f1@icas.sevilla.org
CATEGORIES:Literatura
CREATED;VALUE=DATE-TIME:20210920T141307Z
LAST-MODIFIED;VALUE=DATE-TIME:20231006T075109Z
LOCATION:Biblioteca Alberto Lista
URL:https://icas.sevilla.org/agenda/leer-escribir-y-disfrutar-haikus-3-el-
 haiku-hoy-en-dia-ciclo-de-conferencias-sobre-esta-famosa-estrofa-de-origen
 -japones
END:VEVENT
BEGIN:VTIMEZONE
TZID:Europe/Madrid
X-LIC-LOCATION:Europe/Madrid
BEGIN:DAYLIGHT
DTSTART;VALUE=DATE-TIME:20210328T030000
TZNAME:CEST
TZOFFSETFROM:+0100
TZOFFSETTO:+0200
END:DAYLIGHT
END:VTIMEZONE
END:VCALENDAR
