BEGIN:VCALENDAR
VERSION:2.0
PRODID:-//Plone.org//NONSGML plone.app.event//EN
X-WR-TIMEZONE:Europe/Madrid
BEGIN:VEVENT
SUMMARY:Letras al Poder. Aquellos Maravillosos Libros
DTSTART;TZID=Europe/Madrid;VALUE=DATE-TIME:20220420T180000
DTEND;TZID=Europe/Madrid;VALUE=DATE-TIME:20220420T190000
DTSTAMP;VALUE=DATE-TIME:20260422T002649Z
UID:7aa38efad71c4e9895eee87c8cd4ec60@icas.sevilla.org
CATEGORIES:Infantil
CREATED;VALUE=DATE-TIME:20220411T170256Z
LAST-MODIFIED;VALUE=DATE-TIME:20231006T080001Z
LOCATION:Biblioteca Torreblanca
URL:https://icas.sevilla.org/agenda/letras-al-poder
END:VEVENT
BEGIN:VTIMEZONE
TZID:Europe/Madrid
X-LIC-LOCATION:Europe/Madrid
BEGIN:DAYLIGHT
DTSTART;VALUE=DATE-TIME:20220327T030000
TZNAME:CEST
TZOFFSETFROM:+0100
TZOFFSETTO:+0200
END:DAYLIGHT
END:VTIMEZONE
END:VCALENDAR
