BEGIN:VCALENDAR
VERSION:2.0
PRODID:-//Plone.org//NONSGML plone.app.event//EN
X-WR-TIMEZONE:Europe/Madrid
BEGIN:VEVENT
SUMMARY:Letras Veraniegas al Poder: Cachitos de Muchos Sitios
DTSTART;TZID=Europe/Madrid;VALUE=DATE-TIME:20210707T110000
DTEND;TZID=Europe/Madrid;VALUE=DATE-TIME:20210707T120000
DTSTAMP;VALUE=DATE-TIME:20260423T102515Z
UID:1fb61ac30b43421f9bdec909823035fb@icas.sevilla.org
CATEGORIES:Bibliotecas,Infantil
CREATED;VALUE=DATE-TIME:20210609T072837Z
LAST-MODIFIED;VALUE=DATE-TIME:20231006T073733Z
LOCATION:Biblioteca Torreblanca
URL:https://icas.sevilla.org/agenda/letras-veraniegas-al-poder-cachitos-de
 -muchos-sitios
END:VEVENT
BEGIN:VTIMEZONE
TZID:Europe/Madrid
X-LIC-LOCATION:Europe/Madrid
BEGIN:DAYLIGHT
DTSTART;VALUE=DATE-TIME:20210328T030000
TZNAME:CEST
TZOFFSETFROM:+0100
TZOFFSETTO:+0200
END:DAYLIGHT
END:VTIMEZONE
END:VCALENDAR
