BEGIN:VCALENDAR
VERSION:2.0
PRODID:-//Plone.org//NONSGML plone.app.event//EN
X-WR-TIMEZONE:Europe/Madrid
BEGIN:VEVENT
SUMMARY:Letras Veraniegas al Poder: Historias un Poco Cafres
DTSTART;TZID=Europe/Madrid;VALUE=DATE-TIME:20210728T110000
DTEND;TZID=Europe/Madrid;VALUE=DATE-TIME:20210728T120000
DTSTAMP;VALUE=DATE-TIME:20260420T012422Z
UID:f12bb0a1fca64178ab729a99c80fa095@icas.sevilla.org
CATEGORIES:Bibliotecas,Infantil
CREATED;VALUE=DATE-TIME:20210609T073930Z
LAST-MODIFIED;VALUE=DATE-TIME:20231006T073737Z
LOCATION:Biblioteca Torreblanca
URL:https://icas.sevilla.org/agenda/letras-veraniegas-al-poder-historias-u
 n-poco-cafres
END:VEVENT
BEGIN:VTIMEZONE
TZID:Europe/Madrid
X-LIC-LOCATION:Europe/Madrid
BEGIN:DAYLIGHT
DTSTART;VALUE=DATE-TIME:20210328T030000
TZNAME:CEST
TZOFFSETFROM:+0100
TZOFFSETTO:+0200
END:DAYLIGHT
END:VTIMEZONE
END:VCALENDAR
