BEGIN:VCALENDAR
VERSION:2.0
PRODID:-//Plone.org//NONSGML plone.app.event//EN
X-WR-TIMEZONE:Europe/Madrid
BEGIN:VEVENT
SUMMARY:Letras Veraniegas al Poder: Ni tan Listos ni tan Tontos
DTSTART;TZID=Europe/Madrid;VALUE=DATE-TIME:20210714T110000
DTEND;TZID=Europe/Madrid;VALUE=DATE-TIME:20210714T120000
DTSTAMP;VALUE=DATE-TIME:20260423T173322Z
UID:a44cb9c731d344c2879f6adcd39f6682@icas.sevilla.org
CATEGORIES:Bibliotecas,Infantil
CREATED;VALUE=DATE-TIME:20210609T073359Z
LAST-MODIFIED;VALUE=DATE-TIME:20231006T073734Z
LOCATION:Biblioteca Torreblanca
URL:https://icas.sevilla.org/agenda/letras-veraniegas-al-poder-ni-tan-list
 os-ni-tan-tontos
END:VEVENT
BEGIN:VTIMEZONE
TZID:Europe/Madrid
X-LIC-LOCATION:Europe/Madrid
BEGIN:DAYLIGHT
DTSTART;VALUE=DATE-TIME:20210328T030000
TZNAME:CEST
TZOFFSETFROM:+0100
TZOFFSETTO:+0200
END:DAYLIGHT
END:VTIMEZONE
END:VCALENDAR
