BEGIN:VCALENDAR
VERSION:2.0
PRODID:-//Plone.org//NONSGML plone.app.event//EN
X-WR-TIMEZONE:Europe/Madrid
BEGIN:VEVENT
SUMMARY:Libros de Película: 'El niño del pijama de rayas' de John Boyne
DTSTART;TZID=Europe/Madrid;VALUE=DATE-TIME:20220427T100000
DTEND;TZID=Europe/Madrid;VALUE=DATE-TIME:20220427T114500
DTSTAMP;VALUE=DATE-TIME:20260423T111952Z
UID:558803a508794a84a35ed4b5bfcf7d4f@icas.sevilla.org
CATEGORIES:literatura,cine
CREATED;VALUE=DATE-TIME:20220411T170832Z
LAST-MODIFIED;VALUE=DATE-TIME:20231006T080009Z
LOCATION:Biblioteca Torreblanca
URL:https://icas.sevilla.org/agenda/libros-de-pelicula
END:VEVENT
BEGIN:VTIMEZONE
TZID:Europe/Madrid
X-LIC-LOCATION:Europe/Madrid
BEGIN:DAYLIGHT
DTSTART;VALUE=DATE-TIME:20220327T030000
TZNAME:CEST
TZOFFSETFROM:+0100
TZOFFSETTO:+0200
END:DAYLIGHT
END:VTIMEZONE
END:VCALENDAR
