BEGIN:VCALENDAR
VERSION:2.0
PRODID:-//Plone.org//NONSGML plone.app.event//EN
X-WR-TIMEZONE:Europe/Madrid
BEGIN:VEVENT
SUMMARY:Proyección: 'Antonio Machado. Los días azules'
DTSTART;TZID=Europe/Madrid;VALUE=DATE-TIME:20210317T120000
DTEND;TZID=Europe/Madrid;VALUE=DATE-TIME:20210317T135000
DTSTAMP;VALUE=DATE-TIME:20260423T041316Z
UID:7685e22436fd4385ad3263f895c9e128@icas.sevilla.org
CATEGORIES:Cine
CREATED;VALUE=DATE-TIME:20210315T153416Z
DESCRIPTION:III Muestra de Cine Social LIVING SUR
LAST-MODIFIED;VALUE=DATE-TIME:20231006T073244Z
URL:https://icas.sevilla.org/agenda/living-azules
END:VEVENT
BEGIN:VTIMEZONE
TZID:Europe/Madrid
X-LIC-LOCATION:Europe/Madrid
BEGIN:STANDARD
DTSTART;VALUE=DATE-TIME:20201025T020000
TZNAME:CET
TZOFFSETFROM:+0200
TZOFFSETTO:+0100
END:STANDARD
END:VTIMEZONE
END:VCALENDAR
