BEGIN:VCALENDAR
VERSION:2.0
PRODID:-//Plone.org//NONSGML plone.app.event//EN
X-WR-TIMEZONE:Europe/Madrid
BEGIN:VEVENT
SUMMARY:'Lo nunca visto'\, José Troncoso / La Estampida
DTSTART;TZID=Europe/Madrid;VALUE=DATE-TIME:20211030T200000
DTEND;TZID=Europe/Madrid;VALUE=DATE-TIME:20211031T190000
DTSTAMP;VALUE=DATE-TIME:20260425T191216Z
UID:1cf7e73a1da2449cbeea0e5fa09ab99d@icas.sevilla.org
CATEGORIES:Artes escénicas
CREATED;VALUE=DATE-TIME:20210621T144429Z
DESCRIPTION:Teatro
LAST-MODIFIED;VALUE=DATE-TIME:20231006T074650Z
LOCATION:Teatro Lope de Vega
URL:https://icas.sevilla.org/agenda/lo-nunca-visto-jose-troncoso-la-estamp
 ida
END:VEVENT
BEGIN:VTIMEZONE
TZID:Europe/Madrid
X-LIC-LOCATION:Europe/Madrid
BEGIN:DAYLIGHT
DTSTART;VALUE=DATE-TIME:20210328T030000
TZNAME:CEST
TZOFFSETFROM:+0100
TZOFFSETTO:+0200
END:DAYLIGHT
BEGIN:STANDARD
DTSTART;VALUE=DATE-TIME:20211031T020000
TZNAME:CET
TZOFFSETFROM:+0200
TZOFFSETTO:+0100
END:STANDARD
END:VTIMEZONE
END:VCALENDAR
