BEGIN:VCALENDAR
VERSION:2.0
PRODID:-//Plone.org//NONSGML plone.app.event//EN
X-WR-TIMEZONE:Europe/Madrid
BEGIN:VEVENT
SUMMARY:Los viajes de Mariquilla Trotamundos. Cuentos del mundo para un vi
 aje en globo
DTSTART;TZID=Europe/Madrid;VALUE=DATE-TIME:20220429T180000
DTEND;TZID=Europe/Madrid;VALUE=DATE-TIME:20220429T190000
DTSTAMP;VALUE=DATE-TIME:20260424T192607Z
UID:aa279a16c0bb4349884d62e65906badd@icas.sevilla.org
CATEGORIES:Cuentacuentos
CREATED;VALUE=DATE-TIME:20220411T163255Z
LAST-MODIFIED;VALUE=DATE-TIME:20231006T075919Z
LOCATION:Biblioteca Parque Alcosa
URL:https://icas.sevilla.org/agenda/los-viajes-de-mariquilla-trotamundos-1
END:VEVENT
BEGIN:VTIMEZONE
TZID:Europe/Madrid
X-LIC-LOCATION:Europe/Madrid
BEGIN:DAYLIGHT
DTSTART;VALUE=DATE-TIME:20220327T030000
TZNAME:CEST
TZOFFSETFROM:+0100
TZOFFSETTO:+0200
END:DAYLIGHT
END:VTIMEZONE
END:VCALENDAR
