BEGIN:VCALENDAR
VERSION:2.0
PRODID:-//Plone.org//NONSGML plone.app.event//EN
X-WR-TIMEZONE:Europe/Madrid
BEGIN:VEVENT
SUMMARY:Ludovice Ensemble
DTSTART;TZID=Europe/Madrid;VALUE=DATE-TIME:20230323T200000
DTEND;TZID=Europe/Madrid;VALUE=DATE-TIME:20230323T210000
DTSTAMP;VALUE=DATE-TIME:20260423T214858Z
UID:8939c2a15b2948a697b76955cbd8b953@icas.sevilla.org
CATEGORIES:Música Antigua
CREATED;VALUE=DATE-TIME:20230304T192138Z
DESCRIPTION:XL FeMÀS 2023
LAST-MODIFIED;VALUE=DATE-TIME:20231006T080435Z
URL:https://icas.sevilla.org/agenda/ludovice-ensemble
END:VEVENT
BEGIN:VTIMEZONE
TZID:Europe/Madrid
X-LIC-LOCATION:Europe/Madrid
BEGIN:STANDARD
DTSTART;VALUE=DATE-TIME:20221030T020000
TZNAME:CET
TZOFFSETFROM:+0200
TZOFFSETTO:+0100
END:STANDARD
END:VTIMEZONE
END:VCALENDAR
