BEGIN:VCALENDAR
VERSION:2.0
PRODID:-//Plone.org//NONSGML plone.app.event//EN
X-WR-TIMEZONE:Europe/Madrid
BEGIN:VEVENT
SUMMARY:Lullaby. Proyecto Kavauri (Andalucía)
DTSTART;TZID=Europe/Madrid;VALUE=DATE-TIME:20230608T200000
DTEND;TZID=Europe/Madrid;VALUE=DATE-TIME:20230609T210000
DTSTAMP;VALUE=DATE-TIME:20260420T135721Z
UID:9a50d769423a4b0eb63176d0651b34d7@icas.sevilla.org
CATEGORIES:Circo
CREATED;VALUE=DATE-TIME:20230523T091819Z
LAST-MODIFIED;VALUE=DATE-TIME:20231006T080519Z
LOCATION:Alameda de Hércules
URL:https://icas.sevilla.org/agenda/lullaby-proyecto-kavauri-andalucia
END:VEVENT
BEGIN:VTIMEZONE
TZID:Europe/Madrid
X-LIC-LOCATION:Europe/Madrid
BEGIN:DAYLIGHT
DTSTART;VALUE=DATE-TIME:20230326T030000
TZNAME:CEST
TZOFFSETFROM:+0100
TZOFFSETTO:+0200
END:DAYLIGHT
END:VTIMEZONE
END:VCALENDAR
