BEGIN:VCALENDAR
VERSION:2.0
PRODID:-//Plone.org//NONSGML plone.app.event//EN
X-WR-TIMEZONE:Europe/Madrid
BEGIN:VEVENT
SUMMARY:Mar\, o de cómo sobrevivir a un tsunami. Rebe al Rebes (Andalucí
 a )
DTSTART;TZID=Europe/Madrid;VALUE=DATE-TIME:20230608T190000
DTEND;TZID=Europe/Madrid;VALUE=DATE-TIME:20230609T210000
DTSTAMP;VALUE=DATE-TIME:20260422T024550Z
UID:80467ea4d2474182a52a58846ff5516b@icas.sevilla.org
CATEGORIES:Circo
CREATED;VALUE=DATE-TIME:20230523T085833Z
DESCRIPTION:Coproducción Circada 2023
LAST-MODIFIED;VALUE=DATE-TIME:20231006T080518Z
URL:https://icas.sevilla.org/agenda/mar-o-de-como-sobrevivir-a-un-tsunami-
 rebe-al-rebes
END:VEVENT
BEGIN:VTIMEZONE
TZID:Europe/Madrid
X-LIC-LOCATION:Europe/Madrid
BEGIN:DAYLIGHT
DTSTART;VALUE=DATE-TIME:20230326T030000
TZNAME:CEST
TZOFFSETFROM:+0100
TZOFFSETTO:+0200
END:DAYLIGHT
END:VTIMEZONE
END:VCALENDAR
