BEGIN:VCALENDAR
VERSION:2.0
PRODID:-//Plone.org//NONSGML plone.app.event//EN
X-WR-TIMEZONE:Europe/Madrid
BEGIN:VEVENT
SUMMARY:Maria Joao & Carlos Bica Quartet
DTSTART;TZID=Europe/Madrid;VALUE=DATE-TIME:20231025T200000
DTEND;TZID=Europe/Madrid;VALUE=DATE-TIME:20231025T210000
DTSTAMP;VALUE=DATE-TIME:20260424T015938Z
UID:2cc0eb6b68684df785a96a85aaf91fd1@icas.sevilla.org
CATEGORIES:Música,Jazz
CREATED;VALUE=DATE-TIME:20231023T122959Z
DESCRIPTION:26 Festival de Jazz Universidad de Sevilla.
LAST-MODIFIED;VALUE=DATE-TIME:20231023T123352Z
LOCATION:Sala Silvio
URL:https://icas.sevilla.org/agenda/maria-joao-carlos-bica-quartet
END:VEVENT
BEGIN:VTIMEZONE
TZID:Europe/Madrid
X-LIC-LOCATION:Europe/Madrid
BEGIN:DAYLIGHT
DTSTART;VALUE=DATE-TIME:20230326T030000
TZNAME:CEST
TZOFFSETFROM:+0100
TZOFFSETTO:+0200
END:DAYLIGHT
END:VTIMEZONE
END:VCALENDAR
