BEGIN:VCALENDAR
VERSION:2.0
PRODID:-//Plone.org//NONSGML plone.app.event//EN
X-WR-TIMEZONE:Europe/Madrid
BEGIN:VEVENT
SUMMARY:María Luisa
DTSTART;TZID=Europe/Madrid;VALUE=DATE-TIME:20240120T200000
DTEND;TZID=Europe/Madrid;VALUE=DATE-TIME:20240120T210000
DTSTAMP;VALUE=DATE-TIME:20260425T151223Z
UID:0c8b33c079c244f6a475ec5442dc3e91@icas.sevilla.org
CATEGORIES:Teatro
CREATED;VALUE=DATE-TIME:20240104T111730Z
LAST-MODIFIED;VALUE=DATE-TIME:20240105T112513Z
LOCATION:Sala TNT
URL:https://icas.sevilla.org/agenda/maria-luisa
END:VEVENT
BEGIN:VTIMEZONE
TZID:Europe/Madrid
X-LIC-LOCATION:Europe/Madrid
BEGIN:STANDARD
DTSTART;VALUE=DATE-TIME:20231029T020000
TZNAME:CET
TZOFFSETFROM:+0200
TZOFFSETTO:+0100
END:STANDARD
END:VTIMEZONE
END:VCALENDAR
