BEGIN:VCALENDAR
VERSION:2.0
PRODID:-//Plone.org//NONSGML plone.app.event//EN
X-WR-TIMEZONE:Europe/Madrid
BEGIN:VEVENT
SUMMARY:María Moreno - More (No) More
DTSTART;TZID=Europe/Madrid;VALUE=DATE-TIME:20200918T210000
DTEND;TZID=Europe/Madrid;VALUE=DATE-TIME:20200918T220000
DTSTAMP;VALUE=DATE-TIME:20260426T050740Z
UID:bd69398e4dde4e6686996139a91dc67c@icas.sevilla.org
CATEGORIES:Flamenco,Danza,Música
CREATED;VALUE=DATE-TIME:20200806T111550Z
LAST-MODIFIED;VALUE=DATE-TIME:20231006T072400Z
LOCATION:Teatro Central
URL:https://icas.sevilla.org/agenda/maria-moreno-more-no-more
END:VEVENT
BEGIN:VTIMEZONE
TZID:Europe/Madrid
X-LIC-LOCATION:Europe/Madrid
BEGIN:DAYLIGHT
DTSTART;VALUE=DATE-TIME:20200329T030000
TZNAME:CEST
TZOFFSETFROM:+0100
TZOFFSETTO:+0200
END:DAYLIGHT
END:VTIMEZONE
END:VCALENDAR
