BEGIN:VCALENDAR
VERSION:2.0
PRODID:-//Plone.org//NONSGML plone.app.event//EN
X-WR-TIMEZONE:Europe/Madrid
BEGIN:VEVENT
SUMMARY:Mario El Mago. 'Hipnosis con Mario El Mago' (magia). Distrito Sur
DTSTART;TZID=Europe/Madrid;VALUE=DATE-TIME:20220915T213000
DTEND;TZID=Europe/Madrid;VALUE=DATE-TIME:20220915T223000
DTSTAMP;VALUE=DATE-TIME:20260422T195809Z
UID:89e5b42ee30845c6bc26bd4758ff283d@icas.sevilla.org
CATEGORIES:Magia,Infantil
CREATED;VALUE=DATE-TIME:20220810T060621Z
DESCRIPTION:Veraneo en la City
LAST-MODIFIED;VALUE=DATE-TIME:20231006T080113Z
LOCATION:Parque Rosario Valpuesta
URL:https://icas.sevilla.org/agenda/mario-el-mago-porque-la-veo-magia-dist
 rito-norte
END:VEVENT
BEGIN:VTIMEZONE
TZID:Europe/Madrid
X-LIC-LOCATION:Europe/Madrid
BEGIN:DAYLIGHT
DTSTART;VALUE=DATE-TIME:20220327T030000
TZNAME:CEST
TZOFFSETFROM:+0100
TZOFFSETTO:+0200
END:DAYLIGHT
END:VTIMEZONE
END:VCALENDAR
