BEGIN:VCALENDAR
VERSION:2.0
PRODID:-//Plone.org//NONSGML plone.app.event//EN
X-WR-TIMEZONE:Europe/Madrid
BEGIN:VEVENT
SUMMARY:Martín y la tarta de chocolate
DTSTART;TZID=Europe/Madrid;VALUE=DATE-TIME:20211021T100000
DTEND;TZID=Europe/Madrid;VALUE=DATE-TIME:20211021T130000
DTSTAMP;VALUE=DATE-TIME:20260422T231928Z
UID:e96794387e0b446e993ed8a2341da92d@icas.sevilla.org
CATEGORIES:Infantil,Literatura
CREATED;VALUE=DATE-TIME:20210921T085813Z
LAST-MODIFIED;VALUE=DATE-TIME:20231006T075152Z
LOCATION:Biblioteca Entreparques
URL:https://icas.sevilla.org/agenda/martin-y-la-tarta-de-chocolate
END:VEVENT
BEGIN:VTIMEZONE
TZID:Europe/Madrid
X-LIC-LOCATION:Europe/Madrid
BEGIN:DAYLIGHT
DTSTART;VALUE=DATE-TIME:20210328T030000
TZNAME:CEST
TZOFFSETFROM:+0100
TZOFFSETTO:+0200
END:DAYLIGHT
END:VTIMEZONE
END:VCALENDAR
