BEGIN:VCALENDAR
VERSION:2.0
PRODID:-//Plone.org//NONSGML plone.app.event//EN
X-WR-TIMEZONE:Europe/Madrid
BEGIN:VEVENT
SUMMARY:Martirio y Chano Domínguez. “Bodas de plata de la Copla y el Ja
 zz”. 25 años de ‘Coplas de madrugá’
DTSTART;TZID=Europe/Madrid;VALUE=DATE-TIME:20231024T210000
DTEND;TZID=Europe/Madrid;VALUE=DATE-TIME:20231024T220000
DTSTAMP;VALUE=DATE-TIME:20260423T102010Z
UID:271d7755b0d04c8da111de25593d6bf8@icas.sevilla.org
CATEGORIES:Música
CREATED;VALUE=DATE-TIME:20231023T121222Z
LAST-MODIFIED;VALUE=DATE-TIME:20231023T121603Z
LOCATION:Cartuja Center
URL:https://icas.sevilla.org/agenda/martirio-y-chano-dominguez-201cbodas-d
 e-plata-de-la-copla-y-el-jazz201d-25-anos-de-2018coplas-de-madruga2019
END:VEVENT
BEGIN:VTIMEZONE
TZID:Europe/Madrid
X-LIC-LOCATION:Europe/Madrid
BEGIN:DAYLIGHT
DTSTART;VALUE=DATE-TIME:20230326T030000
TZNAME:CEST
TZOFFSETFROM:+0100
TZOFFSETTO:+0200
END:DAYLIGHT
END:VTIMEZONE
END:VCALENDAR
