BEGIN:VCALENDAR
VERSION:2.0
PRODID:-//Plone.org//NONSGML plone.app.event//EN
X-WR-TIMEZONE:Europe/Madrid
BEGIN:VEVENT
SUMMARY:Mundos abiertos\, letras fronterizas: 'Poemas que nos acompañaron
  (de marzo a marzo)'
DTSTART;TZID=Europe/Madrid;VALUE=DATE-TIME:20210321T120000
DTEND;TZID=Europe/Madrid;VALUE=DATE-TIME:20210321T130000
DTSTAMP;VALUE=DATE-TIME:20260426T035938Z
UID:389bd61d5f0a40afaa50b9f25f7d0cc3@icas.sevilla.org
CREATED;VALUE=DATE-TIME:20210127T103635Z
LAST-MODIFIED;VALUE=DATE-TIME:20231006T073219Z
URL:https://icas.sevilla.org/agenda/marzo-marzo
END:VEVENT
BEGIN:VTIMEZONE
TZID:Europe/Madrid
X-LIC-LOCATION:Europe/Madrid
BEGIN:STANDARD
DTSTART;VALUE=DATE-TIME:20201025T020000
TZNAME:CET
TZOFFSETFROM:+0200
TZOFFSETTO:+0100
END:STANDARD
END:VTIMEZONE
END:VCALENDAR
