BEGIN:VCALENDAR
VERSION:2.0
PRODID:-//Plone.org//NONSGML plone.app.event//EN
X-WR-TIMEZONE:Europe/Madrid
BEGIN:VEVENT
SUMMARY:Miércoles flamencos
DTSTART;TZID=Europe/Madrid;VALUE=DATE-TIME:20230628T220000
DTEND;TZID=Europe/Madrid;VALUE=DATE-TIME:20230628T230000
DTSTAMP;VALUE=DATE-TIME:20260423T140612Z
UID:1913c59f526942bbab267f0bf45fcf5e@icas.sevilla.org
CATEGORIES:Flamenco
CREATED;VALUE=DATE-TIME:20230626T113358Z
LAST-MODIFIED;VALUE=DATE-TIME:20231006T080549Z
URL:https://icas.sevilla.org/agenda/miercoles-flamencos
END:VEVENT
BEGIN:VTIMEZONE
TZID:Europe/Madrid
X-LIC-LOCATION:Europe/Madrid
BEGIN:DAYLIGHT
DTSTART;VALUE=DATE-TIME:20230326T030000
TZNAME:CEST
TZOFFSETFROM:+0100
TZOFFSETTO:+0200
END:DAYLIGHT
END:VTIMEZONE
END:VCALENDAR
