BEGIN:VCALENDAR
VERSION:2.0
PRODID:-//Plone.org//NONSGML plone.app.event//EN
X-WR-TIMEZONE:Europe/Madrid
BEGIN:VEVENT
SUMMARY:Miguel Hernández\, su perdición encontrada\, por Augusto Thassio
DTSTART;VALUE=DATE:20211005
DTEND;VALUE=DATE:20211006
DTSTAMP;VALUE=DATE-TIME:20260421T230411Z
UID:1cd14980454440c3adff874b6015ea28@icas.sevilla.org
CATEGORIES:Literatura
CREATED;VALUE=DATE-TIME:20210917T070801Z
LAST-MODIFIED;VALUE=DATE-TIME:20231006T075052Z
URL:https://icas.sevilla.org/agenda/miguel-hernandez-su-perdicion-encontra
 da-por-augusto-thassio
END:VEVENT
END:VCALENDAR
