BEGIN:VCALENDAR
VERSION:2.0
PRODID:-//Plone.org//NONSGML plone.app.event//EN
X-WR-TIMEZONE:Europe/Madrid
BEGIN:VEVENT
SUMMARY:Ministriles Hispalensis. IV Centenario de Velázquez como pintor d
 e la Corte de Felipe IV
DTSTART;TZID=Europe/Madrid;VALUE=DATE-TIME:20230511T200000
DTEND;TZID=Europe/Madrid;VALUE=DATE-TIME:20230511T210000
DTSTAMP;VALUE=DATE-TIME:20260422T110957Z
UID:fa071ce13fd343ffae3fb7ee4ef9ddd0@icas.sevilla.org
CATEGORIES:Música antigua
CREATED;VALUE=DATE-TIME:20230419T103744Z
LAST-MODIFIED;VALUE=DATE-TIME:20231006T080458Z
LOCATION:Casa de Pilatos
URL:https://icas.sevilla.org/agenda/ministriles-hispalensis-v-centenario-d
 e-velazquez-como-pintor-de-la-corte-de-felipe-iv
END:VEVENT
BEGIN:VTIMEZONE
TZID:Europe/Madrid
X-LIC-LOCATION:Europe/Madrid
BEGIN:DAYLIGHT
DTSTART;VALUE=DATE-TIME:20230326T030000
TZNAME:CEST
TZOFFSETFROM:+0100
TZOFFSETTO:+0200
END:DAYLIGHT
END:VTIMEZONE
END:VCALENDAR
