BEGIN:VCALENDAR
VERSION:2.0
PRODID:-//Plone.org//NONSGML plone.app.event//EN
X-WR-TIMEZONE:Europe/Madrid
BEGIN:VEVENT
SUMMARY:Exposición: 'Miradas de Bécquer'
DTSTART;TZID=Europe/Madrid;VALUE=DATE-TIME:20200918T100000
DTEND;TZID=Europe/Madrid;VALUE=DATE-TIME:20201004T213000
DTSTAMP;VALUE=DATE-TIME:20260420T195005Z
UID:aeec60bc4122447cae2f25a45d59606e@icas.sevilla.org
CATEGORIES:Exposiciones
CREATED;VALUE=DATE-TIME:20200908T071943Z
DESCRIPTION:Comisariada por las artistas Ana Feu y Carmen Sánchez Ruda.
LAST-MODIFIED;VALUE=DATE-TIME:20231006T072406Z
URL:https://icas.sevilla.org/agenda/miradas-becquer-setas
END:VEVENT
BEGIN:VTIMEZONE
TZID:Europe/Madrid
X-LIC-LOCATION:Europe/Madrid
BEGIN:DAYLIGHT
DTSTART;VALUE=DATE-TIME:20200329T030000
TZNAME:CEST
TZOFFSETFROM:+0100
TZOFFSETTO:+0200
END:DAYLIGHT
END:VTIMEZONE
END:VCALENDAR
