BEGIN:VCALENDAR
VERSION:2.0
PRODID:-//Plone.org//NONSGML plone.app.event//EN
X-WR-TIMEZONE:Europe/Madrid
BEGIN:VEVENT
SUMMARY:Proyección: 'Los Miserables'
DTSTART;TZID=Europe/Madrid;VALUE=DATE-TIME:20210318T160000
DTEND;TZID=Europe/Madrid;VALUE=DATE-TIME:20210318T170000
DTSTAMP;VALUE=DATE-TIME:20260423T020253Z
UID:b3f5d03d547646e69ee6e66867c5a60b@icas.sevilla.org
CATEGORIES:Cine
CREATED;VALUE=DATE-TIME:20210315T164607Z
DESCRIPTION:III Muestra de Cine Social LIVING SUR
LAST-MODIFIED;VALUE=DATE-TIME:20231006T073249Z
URL:https://icas.sevilla.org/agenda/miserables-ladj
END:VEVENT
BEGIN:VTIMEZONE
TZID:Europe/Madrid
X-LIC-LOCATION:Europe/Madrid
BEGIN:STANDARD
DTSTART;VALUE=DATE-TIME:20201025T020000
TZNAME:CET
TZOFFSETFROM:+0200
TZOFFSETTO:+0100
END:STANDARD
END:VTIMEZONE
END:VCALENDAR
