BEGIN:VCALENDAR
VERSION:2.0
PRODID:-//Plone.org//NONSGML plone.app.event//EN
X-WR-TIMEZONE:Europe/Madrid
BEGIN:VEVENT
SUMMARY:Mundo mítico
DTSTART;TZID=Europe/Madrid;VALUE=DATE-TIME:20220426T110000
DTEND;TZID=Europe/Madrid;VALUE=DATE-TIME:20220426T120000
DTSTAMP;VALUE=DATE-TIME:20260420T122335Z
UID:87ab98eedece4e3491c407246a298a84@icas.sevilla.org
CATEGORIES:Literatura
CREATED;VALUE=DATE-TIME:20220407T145802Z
LAST-MODIFIED;VALUE=DATE-TIME:20231006T075734Z
LOCATION:Biblioteca Blas Infante
URL:https://icas.sevilla.org/agenda/mundo-mitico
END:VEVENT
BEGIN:VTIMEZONE
TZID:Europe/Madrid
X-LIC-LOCATION:Europe/Madrid
BEGIN:DAYLIGHT
DTSTART;VALUE=DATE-TIME:20220327T030000
TZNAME:CEST
TZOFFSETFROM:+0100
TZOFFSETTO:+0200
END:DAYLIGHT
END:VTIMEZONE
END:VCALENDAR
