BEGIN:VCALENDAR
VERSION:2.0
PRODID:-//Plone.org//NONSGML plone.app.event//EN
X-WR-TIMEZONE:Europe/Madrid
BEGIN:VEVENT
SUMMARY:¡Música Maestro!: un canto a la igualdad
DTSTART;TZID=Europe/Madrid;VALUE=DATE-TIME:20210611T163000
DTEND;TZID=Europe/Madrid;VALUE=DATE-TIME:20210611T173000
DTSTAMP;VALUE=DATE-TIME:20260422T133037Z
UID:4c272ce694cc4b68a94b41346d79294d@icas.sevilla.org
CATEGORIES:Bibliotecas,infantil,literatura
CREATED;VALUE=DATE-TIME:20210426T105550Z
LAST-MODIFIED;VALUE=DATE-TIME:20231006T073541Z
URL:https://icas.sevilla.org/agenda/musica-maestro-un-canto-a-la-igualdad
END:VEVENT
BEGIN:VTIMEZONE
TZID:Europe/Madrid
X-LIC-LOCATION:Europe/Madrid
BEGIN:DAYLIGHT
DTSTART;VALUE=DATE-TIME:20210328T030000
TZNAME:CEST
TZOFFSETFROM:+0100
TZOFFSETTO:+0200
END:DAYLIGHT
END:VTIMEZONE
END:VCALENDAR
