BEGIN:VCALENDAR
VERSION:2.0
PRODID:-//Plone.org//NONSGML plone.app.event//EN
X-WR-TIMEZONE:Europe/Madrid
BEGIN:VEVENT
SUMMARY:Ni en la vida ni en la muerte
DTSTART;VALUE=DATE:20220113
DTEND;VALUE=DATE:20220129
DTSTAMP;VALUE=DATE-TIME:20260425T233116Z
UID:7eb96b021f2d47229c952c67b1d73993@icas.sevilla.org
CATEGORIES:Exposiciones
CREATED;VALUE=DATE-TIME:20220110T131328Z
DESCRIPTION:Comisaria: Angela Marina Fernández Cotta
LAST-MODIFIED;VALUE=DATE-TIME:20231006T075634Z
URL:https://icas.sevilla.org/agenda/ni-en-la-vida-ni-en-la-muerte
END:VEVENT
END:VCALENDAR
