BEGIN:VCALENDAR
VERSION:2.0
PRODID:-//Plone.org//NONSGML plone.app.event//EN
X-WR-TIMEZONE:Europe/Madrid
BEGIN:VEVENT
SUMMARY:XXXVIII FeMÀS. Nicolas Alstaedt: 'Suites para violonchelo solo'
DTSTART;TZID=Europe/Madrid;VALUE=DATE-TIME:20210313T110000
DTEND;TZID=Europe/Madrid;VALUE=DATE-TIME:20210313T123000
DTSTAMP;VALUE=DATE-TIME:20260421T193222Z
UID:a1960a4b0fca47878d0b9ceaee73c683@icas.sevilla.org
CATEGORIES:Música
CREATED;VALUE=DATE-TIME:20210226T143458Z
LAST-MODIFIED;VALUE=DATE-TIME:20231006T073233Z
URL:https://icas.sevilla.org/agenda/nicolas-solo
END:VEVENT
BEGIN:VTIMEZONE
TZID:Europe/Madrid
X-LIC-LOCATION:Europe/Madrid
BEGIN:STANDARD
DTSTART;VALUE=DATE-TIME:20201025T020000
TZNAME:CET
TZOFFSETFROM:+0200
TZOFFSETTO:+0100
END:STANDARD
END:VTIMEZONE
END:VCALENDAR
