BEGIN:VCALENDAR
VERSION:2.0
PRODID:-//Plone.org//NONSGML plone.app.event//EN
X-WR-TIMEZONE:Europe/Madrid
BEGIN:VEVENT
SUMMARY:Proyección: 'Las Niñas'
DTSTART;TZID=Europe/Madrid;VALUE=DATE-TIME:20210319T170000
DTEND;TZID=Europe/Madrid;VALUE=DATE-TIME:20210319T180000
DTSTAMP;VALUE=DATE-TIME:20260423T052247Z
UID:28c214b58a984239955fa522043e5074@icas.sevilla.org
CATEGORIES:Cine
CREATED;VALUE=DATE-TIME:20210315T171415Z
DESCRIPTION:III Muestra de Cine Social LIVING SUR
LAST-MODIFIED;VALUE=DATE-TIME:20231006T073250Z
URL:https://icas.sevilla.org/agenda/ninas-pilar-2021
END:VEVENT
BEGIN:VTIMEZONE
TZID:Europe/Madrid
X-LIC-LOCATION:Europe/Madrid
BEGIN:STANDARD
DTSTART;VALUE=DATE-TIME:20201025T020000
TZNAME:CET
TZOFFSETFROM:+0200
TZOFFSETTO:+0100
END:STANDARD
END:VTIMEZONE
END:VCALENDAR
