BEGIN:VCALENDAR
VERSION:2.0
PRODID:-//Plone.org//NONSGML plone.app.event//EN
X-WR-TIMEZONE:Europe/Madrid
BEGIN:VEVENT
SUMMARY:Noche en Blanco 2022
DTSTART;TZID=Europe/Madrid;VALUE=DATE-TIME:20221007T200000
DTEND;TZID=Europe/Madrid;VALUE=DATE-TIME:20221008T020000
DTSTAMP;VALUE=DATE-TIME:20260421T211815Z
UID:5078e92485be44c587f2a512ea003552@icas.sevilla.org
CATEGORIES:Visita,Exposición,Música,Patrimonio
CREATED;VALUE=DATE-TIME:20220930T104340Z
LAST-MODIFIED;VALUE=DATE-TIME:20231006T080239Z
URL:https://icas.sevilla.org/agenda/noche-en-blanco-2022
END:VEVENT
BEGIN:VTIMEZONE
TZID:Europe/Madrid
X-LIC-LOCATION:Europe/Madrid
BEGIN:DAYLIGHT
DTSTART;VALUE=DATE-TIME:20220327T030000
TZNAME:CEST
TZOFFSETFROM:+0100
TZOFFSETTO:+0200
END:DAYLIGHT
END:VTIMEZONE
END:VCALENDAR
