BEGIN:VCALENDAR
VERSION:2.0
PRODID:-//Plone.org//NONSGML plone.app.event//EN
X-WR-TIMEZONE:Europe/Madrid
BEGIN:VEVENT
SUMMARY:Ofrenda 'Bibliokepos'
DTSTART;TZID=Europe/Madrid;VALUE=DATE-TIME:20230615T193000
DTEND;TZID=Europe/Madrid;VALUE=DATE-TIME:20230615T203000
DTSTAMP;VALUE=DATE-TIME:20260422T132509Z
UID:034d2bdd2a1a4318b92a70eb0eb1b08f@icas.sevilla.org
CATEGORIES:Libros 
CREATED;VALUE=DATE-TIME:20230512T090225Z
LAST-MODIFIED;VALUE=DATE-TIME:20231006T080515Z
URL:https://icas.sevilla.org/agenda/ofrenda-bibliokepos
END:VEVENT
BEGIN:VTIMEZONE
TZID:Europe/Madrid
X-LIC-LOCATION:Europe/Madrid
BEGIN:DAYLIGHT
DTSTART;VALUE=DATE-TIME:20230326T030000
TZNAME:CEST
TZOFFSETFROM:+0100
TZOFFSETTO:+0200
END:DAYLIGHT
END:VTIMEZONE
END:VCALENDAR
