BEGIN:VCALENDAR
VERSION:2.0
PRODID:-//Plone.org//NONSGML plone.app.event//EN
X-WR-TIMEZONE:Europe/Madrid
BEGIN:VEVENT
SUMMARY:Orquesta Barroca de Sevilla. Lina Tur Bonet
DTSTART;TZID=Europe/Madrid;VALUE=DATE-TIME:20210427T180000
DTEND;TZID=Europe/Madrid;VALUE=DATE-TIME:20210427T190000
DTSTAMP;VALUE=DATE-TIME:20260423T102755Z
UID:3531f86a4c3646bf8db0b3c572c7bdcb@icas.sevilla.org
CATEGORIES:Música
CREATED;VALUE=DATE-TIME:20210113T140031Z
LAST-MODIFIED;VALUE=DATE-TIME:20231006T073202Z
URL:https://icas.sevilla.org/agenda/orquesta-barroca-de-sevilla-lina-tur-b
 onet
END:VEVENT
BEGIN:VTIMEZONE
TZID:Europe/Madrid
X-LIC-LOCATION:Europe/Madrid
BEGIN:DAYLIGHT
DTSTART;VALUE=DATE-TIME:20210328T030000
TZNAME:CEST
TZOFFSETFROM:+0100
TZOFFSETTO:+0200
END:DAYLIGHT
END:VTIMEZONE
END:VCALENDAR
