BEGIN:VCALENDAR
VERSION:2.0
PRODID:-//Plone.org//NONSGML plone.app.event//EN
X-WR-TIMEZONE:Europe/Madrid
BEGIN:VEVENT
SUMMARY:Orquesta Residente del Otoño Barroco y Coro de la AAOBS
DTSTART;TZID=Europe/Madrid;VALUE=DATE-TIME:20231204T200000
DTEND;TZID=Europe/Madrid;VALUE=DATE-TIME:20231204T220000
DTSTAMP;VALUE=DATE-TIME:20260425T233116Z
UID:e8a2d2b921224b1e9034db7df7e2053e@icas.sevilla.org
CATEGORIES:Música,Otoño Barroco
CREATED;VALUE=DATE-TIME:20231026T130006Z
DESCRIPTION:Otoño Barroco 2023. Concierto participativo.
LAST-MODIFIED;VALUE=DATE-TIME:20231030T114527Z
URL:https://icas.sevilla.org/agenda/orquesta-residente-del-otono-barroco-y
 -coro-de-la-aaobs
END:VEVENT
BEGIN:VTIMEZONE
TZID:Europe/Madrid
X-LIC-LOCATION:Europe/Madrid
BEGIN:STANDARD
DTSTART;VALUE=DATE-TIME:20231029T020000
TZNAME:CET
TZOFFSETFROM:+0200
TZOFFSETTO:+0100
END:STANDARD
END:VTIMEZONE
END:VCALENDAR
