BEGIN:VCALENDAR
VERSION:2.0
PRODID:-//Plone.org//NONSGML plone.app.event//EN
X-WR-TIMEZONE:Europe/Madrid
BEGIN:VEVENT
SUMMARY:In Paradisum
DTSTART;TZID=Europe/Madrid;VALUE=DATE-TIME:20210318T100000
DTEND;TZID=Europe/Madrid;VALUE=DATE-TIME:20210404T203000
DTSTAMP;VALUE=DATE-TIME:20260423T111943Z
UID:22f7156c4fdb41dbac1ea0c49ae917b2@icas.sevilla.org
CREATED;VALUE=DATE-TIME:20210303T094322Z
LAST-MODIFIED;VALUE=DATE-TIME:20231006T073235Z
URL:https://icas.sevilla.org/agenda/paradisum-2021
END:VEVENT
BEGIN:VTIMEZONE
TZID:Europe/Madrid
X-LIC-LOCATION:Europe/Madrid
BEGIN:STANDARD
DTSTART;VALUE=DATE-TIME:20201025T020000
TZNAME:CET
TZOFFSETFROM:+0200
TZOFFSETTO:+0100
END:STANDARD
BEGIN:DAYLIGHT
DTSTART;VALUE=DATE-TIME:20210328T030000
TZNAME:CEST
TZOFFSETFROM:+0100
TZOFFSETTO:+0200
END:DAYLIGHT
END:VTIMEZONE
END:VCALENDAR
