BEGIN:VCALENDAR
VERSION:2.0
PRODID:-//Plone.org//NONSGML plone.app.event//EN
X-WR-TIMEZONE:Europe/Madrid
BEGIN:VEVENT
SUMMARY:Paseantes
DTSTART;VALUE=DATE:20200825
DTEND;VALUE=DATE:20201101
DTSTAMP;VALUE=DATE-TIME:20260422T085416Z
UID:4f255f2a612747b7a99cbf7448b898ed@icas.sevilla.org
CATEGORIES:Exposiciones,Fotografía
CREATED;VALUE=DATE-TIME:20200825T111655Z
LAST-MODIFIED;VALUE=DATE-TIME:20231006T072404Z
LOCATION:Sala Atín Aya
URL:https://icas.sevilla.org/agenda/paseantes-jose-toro
END:VEVENT
END:VCALENDAR
