BEGIN:VCALENDAR
VERSION:2.0
PRODID:-//Plone.org//NONSGML plone.app.event//EN
X-WR-TIMEZONE:Europe/Madrid
BEGIN:VEVENT
SUMMARY:Paseos naturales por el camino de las palabras. Un paseo por el bo
 sque. Plumas y pájaros
DTSTART;TZID=Europe/Madrid;VALUE=DATE-TIME:20211008T180000
DTEND;TZID=Europe/Madrid;VALUE=DATE-TIME:20211008T190000
DTSTAMP;VALUE=DATE-TIME:20260420T013322Z
UID:51a375336b934258ba768e33cb33283d@icas.sevilla.org
CATEGORIES:Infantil,Literatura
CREATED;VALUE=DATE-TIME:20210921T083916Z
LAST-MODIFIED;VALUE=DATE-TIME:20231006T075144Z
LOCATION:Biblioteca Entreparques
URL:https://icas.sevilla.org/agenda/paseos-naturales-por-el-camino-de-las-
 palabras-un-paseo-por-el-bosque-plumas-y-pajaros
END:VEVENT
BEGIN:VTIMEZONE
TZID:Europe/Madrid
X-LIC-LOCATION:Europe/Madrid
BEGIN:DAYLIGHT
DTSTART;VALUE=DATE-TIME:20210328T030000
TZNAME:CEST
TZOFFSETFROM:+0100
TZOFFSETTO:+0200
END:DAYLIGHT
END:VTIMEZONE
END:VCALENDAR
